BEGIN:VCALENDAR
VERSION:2.0
PRODID:-//jEvents 2.0 for Joomla//EN
CALSCALE:GREGORIAN
METHOD:PUBLISH
BEGIN:VTIMEZONE
TZID:Europe/Berlin
BEGIN:STANDARD
DTSTART:20231029T020000
RDATE:20240331T030000
TZOFFSETFROM:+0200
TZOFFSETTO:+0100
TZNAME:Europe/Berlin CET
END:STANDARD
BEGIN:STANDARD
DTSTART:20241027T020000
RDATE:20250330T030000
TZOFFSETFROM:+0200
TZOFFSETTO:+0100
TZNAME:Europe/Berlin CET
END:STANDARD
BEGIN:STANDARD
DTSTART:20251026T020000
RDATE:20260329T030000
TZOFFSETFROM:+0200
TZOFFSETTO:+0100
TZNAME:Europe/Berlin CET
END:STANDARD
BEGIN:STANDARD
DTSTART:20261025T020000
RDATE:20270328T030000
TZOFFSETFROM:+0200
TZOFFSETTO:+0100
TZNAME:Europe/Berlin CET
END:STANDARD
BEGIN:STANDARD
DTSTART:20271031T020000
RDATE:20280326T030000
TZOFFSETFROM:+0200
TZOFFSETTO:+0100
TZNAME:Europe/Berlin CET
END:STANDARD
BEGIN:STANDARD
DTSTART:20281029T020000
RDATE:20290325T030000
TZOFFSETFROM:+0200
TZOFFSETTO:+0100
TZNAME:Europe/Berlin CET
END:STANDARD
BEGIN:STANDARD
DTSTART:20291028T020000
RDATE:20300331T030000
TZOFFSETFROM:+0200
TZOFFSETTO:+0100
TZNAME:Europe/Berlin CET
END:STANDARD
BEGIN:STANDARD
DTSTART:20301027T020000
RDATE:20310330T030000
TZOFFSETFROM:+0200
TZOFFSETTO:+0100
TZNAME:Europe/Berlin CET
END:STANDARD
BEGIN:STANDARD
DTSTART:20311026T020000
RDATE:20320328T030000
TZOFFSETFROM:+0200
TZOFFSETTO:+0100
TZNAME:Europe/Berlin CET
END:STANDARD
BEGIN:DAYLIGHT
DTSTART:20230824T163000
RDATE:20231029T020000
TZOFFSETFROM:+0100
TZOFFSETTO:+0200
TZNAME:Europe/Berlin CEST
END:DAYLIGHT
BEGIN:DAYLIGHT
DTSTART:20240331T030000
RDATE:20241027T020000
TZOFFSETFROM:+0100
TZOFFSETTO:+0200
TZNAME:Europe/Berlin CEST
END:DAYLIGHT
BEGIN:DAYLIGHT
DTSTART:20250330T030000
RDATE:20251026T020000
TZOFFSETFROM:+0100
TZOFFSETTO:+0200
TZNAME:Europe/Berlin CEST
END:DAYLIGHT
BEGIN:DAYLIGHT
DTSTART:20260329T030000
RDATE:20261025T020000
TZOFFSETFROM:+0100
TZOFFSETTO:+0200
TZNAME:Europe/Berlin CEST
END:DAYLIGHT
BEGIN:DAYLIGHT
DTSTART:20270328T030000
RDATE:20271031T020000
TZOFFSETFROM:+0100
TZOFFSETTO:+0200
TZNAME:Europe/Berlin CEST
END:DAYLIGHT
BEGIN:DAYLIGHT
DTSTART:20280326T030000
RDATE:20281029T020000
TZOFFSETFROM:+0100
TZOFFSETTO:+0200
TZNAME:Europe/Berlin CEST
END:DAYLIGHT
BEGIN:DAYLIGHT
DTSTART:20290325T030000
RDATE:20291028T020000
TZOFFSETFROM:+0100
TZOFFSETTO:+0200
TZNAME:Europe/Berlin CEST
END:DAYLIGHT
BEGIN:DAYLIGHT
DTSTART:20300331T030000
RDATE:20301027T020000
TZOFFSETFROM:+0100
TZOFFSETTO:+0200
TZNAME:Europe/Berlin CEST
END:DAYLIGHT
BEGIN:DAYLIGHT
DTSTART:20310330T030000
RDATE:20311026T020000
TZOFFSETFROM:+0100
TZOFFSETTO:+0200
TZNAME:Europe/Berlin CEST
END:DAYLIGHT
END:VTIMEZONE
BEGIN:VEVENT
UID:64e69b68e2eb349759e30bdbf323290f
CATEGORIES:für Member und Freunde des RPC
CREATED:20240723T140928
SUMMARY:Sunset Chapter - Summer Sunset 2024
LOCATION:52249 Eschweiler
DESCRIPTION;ENCODING=QUOTED-PRINTABLE:\n\n\n\n\nLasst uns gemeinsam einen großartigen Tag voller Spaß, Benzingesp
 räche und guter Musik verbringen. Für das leibliche Wohl ist bestens gesorg
 t – es gibt kühle Getränke, leckeres Essen vom Grill und natürlich auch ein
 e Cocktailbar.&nbsp;\n\n\nFür beste Unterhaltung sorgt die Blues Band „Hone
 y Hush“ aus Düsseldorf.&nbsp;\n\n\nBitte gebt uns bis zum&nbsp;10.08.2024&n
 bsp;Bescheid,&nbsp;ob und mit wie vielen Personen&nbsp;Ihr kommt, damit wir
  den Bedarf an Getränken und Essen planen können.&nbsp;\n\n\nWir freuen uns
  auf Euch und einen unvergesslichen Tag!\n\n\nKontakt für Rückmeldungen:\n\
 n\nDiese E-Mail-Adresse ist vor Spambots geschützt! Zur Anzeige muss JavaSc
 ript eingeschaltet sein!
				document.getElementById('cloakad6ac450c2a4cf77
 072d39e881fcbfe1').innerHTML = '';
				var prefix = '&#109;a' + 'i&#108;' +
  '&#116;o';
				var path = 'hr' + 'ef' + '=';
				var addyad6ac450c2a4cf770
 72d39e881fcbfe1 = '&#105;nf&#111;' + '&#64;';
				addyad6ac450c2a4cf77072d3
 9e881fcbfe1 = addyad6ac450c2a4cf77072d39e881fcbfe1 + 's&#117;ns&#101;t-ch&#
 97;pt&#101;r' + '&#46;' + 'c&#111;m';
				var addy_textad6ac450c2a4cf77072d
 39e881fcbfe1 = '&#105;nf&#111;' + '&#64;' + 's&#117;ns&#101;t-ch&#97;pt&#10
 1;r' + '&#46;' + 'c&#111;m';document.getElementById('cloakad6ac450c2a4cf770
 72d39e881fcbfe1').innerHTML += ''+addy_textad6ac450c2a4cf77072d39e881fcbfe1
 +'';
		\n\n\nWir hoffen, viele von Euch begrüßen zu dürfen und freuen uns a
 uf ein tolles Fest!\n\n\nMit Harley Grüßen&nbsp;\n\n\nSunset Chapter Aachen
 \n
CONTACT:Diese E-Mail-Adresse ist vor Spambots geschützt! Zur Anzeige muss JavaScript eingeschaltet sein!
				document.getElementById('cloakb431596f33edc89fb94c19fd54c79f74').innerHTML = '';
				var prefix = '&#109;a' + 'i&#108;' + '&#116;o';
				var path = 'hr' + 'ef' + '=';
				var addyb431596f33edc89fb94c19fd54c79f74 = '&#105;nf&#111;' + '&#64;';
				addyb431596f33edc89fb94c19fd54c79f74 = addyb431596f33edc89fb94c19fd54c79f74 + 's&#117;ns&#101;t-ch&#97;pt&#101;r' + '&#46;' + 'c&#111;m';
				var addy_textb431596f33edc89fb94c19fd54c79f74 = '&#105;nf&#111;' + '&#64;' + 's&#117;ns&#101;t-ch&#97;pt&#101;r' + '&#46;' + 'c&#111;m';document.getElementById('cloakb431596f33edc89fb94c19fd54c79f74').innerHTML += ''+addy_textb431596f33edc89fb94c19fd54c79f74+'';
		
DTSTAMP:20260420T072800Z
DTSTART;TZID=Europe/Berlin:20240824T163000
SEQUENCE:0
TRANSP:OPAQUE
END:VEVENT
END:VCALENDAR